BEGIN:VCALENDAR
VERSION:2.0
PRODID:SchoolNow
CALSCALE:GREGORIAN
BEGIN:VEVENT
UID:ab249ea2-1446-11ed-8c9c-0aee11b3359f
DTSTAMP:20220804T224206Z
SUMMARY:Memorial Day Holiday- NO SCHOOL
URL;VALUE=URI:https://www.cuesd.com/schools/meadow-lane/calendar/3271734/me
 morial-day-holiday-no-school
DTSTART:20230529T150000Z
DTEND:20230529T210000Z
END:VEVENT
END:VCALENDAR
