BEGIN:VCALENDAR
VERSION:2.0
PRODID:SchoolNow
CALSCALE:GREGORIAN
BEGIN:VEVENT
UID:d25610a6-1445-11ed-9239-0aee11b3359f
DTSTAMP:20220817T223935Z
SUMMARY:Spring Break- NO SCHOOL
URL;VALUE=URI:https://www.cuesd.com/schools/meadow-lane/calendar/3271731/th
 anksgiving-break-no-school-clone
DTSTART:20230403T150000Z
DTEND:20230410T210000Z
END:VEVENT
END:VCALENDAR
