BEGIN:VCALENDAR
VERSION:2.0
PRODID:SchoolNow
CALSCALE:GREGORIAN
BEGIN:VEVENT
UID:604a3c3a-1445-11ed-a872-0aee11b3359f
DTSTAMP:20230301T161902Z
SUMMARY:TK/Kindergarten Round Up
URL;VALUE=URI:https://www.cuesd.com/schools/meadow-lane/calendar/3271730/tk
 -kindergarten-round-up
DTSTART:20230324T000000Z
DTEND:20230324T013000Z
END:VEVENT
END:VCALENDAR
