BEGIN:VCALENDAR
VERSION:2.0
PRODID:SchoolNow
CALSCALE:GREGORIAN
BEGIN:VEVENT
UID:d8f66326-1444-11ed-90fc-0aee11b3359f
DTSTAMP:20220804T222904Z
SUMMARY:Spring Pictures- Lifetouch
URL;VALUE=URI:https://www.cuesd.com/schools/meadow-lane/calendar/3271721/sp
 ring-pictures-lifetouch
DTSTART:20230316T150000Z
DTEND:20230316T210000Z
END:VEVENT
END:VCALENDAR
