BEGIN:VCALENDAR
VERSION:2.0
PRODID:SchoolNow
CALSCALE:GREGORIAN
BEGIN:VEVENT
UID:727e3b96-1444-11ed-9a49-0aee11b3359f
DTSTAMP:20220804T222612Z
SUMMARY:February Break- NO SCHOOL
URL;VALUE=URI:https://www.cuesd.com/schools/meadow-lane/calendar/3271720/th
 anksgiving-break-no-school-clone
DTSTART:20230220T160000Z
DTEND:20230224T220000Z
END:VEVENT
END:VCALENDAR
