BEGIN:VCALENDAR
VERSION:2.0
PRODID:SchoolNow
CALSCALE:GREGORIAN
BEGIN:VEVENT
UID:4b580218-1444-11ed-9075-0aee11b3359f
DTSTAMP:20220804T222507Z
SUMMARY:Martin Luther King\, Jr. Holiday- NO SCHOOL
URL;VALUE=URI:https://www.cuesd.com/schools/meadow-lane/calendar/3271719/pa
 rent-booster-club-meeting-clone-clone
DTSTART:20230116T160000Z
DTEND:20230116T220000Z
END:VEVENT
END:VCALENDAR
