BEGIN:VCALENDAR
VERSION:2.0
PRODID:SchoolNow
CALSCALE:GREGORIAN
BEGIN:VEVENT
UID:fdd71f60-1443-11ed-9db2-0aee11b3359f
DTSTAMP:20220804T222257Z
SUMMARY:Holiday Break- NO SCHOOL
URL;VALUE=URI:https://www.cuesd.com/schools/meadow-lane/calendar/3271717/ho
 liday-break-no-school
DTSTART:20221219T160000Z
DTEND:20230103T220000Z
END:VEVENT
END:VCALENDAR
