BEGIN:VCALENDAR
VERSION:2.0
PRODID:SchoolNow
CALSCALE:GREGORIAN
BEGIN:VEVENT
UID:9414024e-5384-11ec-8d1f-029e5235197b
DTSTAMP:20211202T152902Z
SUMMARY:Christmas Vacation - No School
URL;VALUE=URI:https://www.cuesd.com/schools/meadow-lane/calendar/2926213/ch
 ristmas-vacation-no-school
DTSTART;VALUE=DATE:20211231
DTEND;VALUE=DATE:20220101
END:VEVENT
END:VCALENDAR
