BEGIN:VCALENDAR
VERSION:2.0
PRODID:SchoolNow
CALSCALE:GREGORIAN
BEGIN:VEVENT
UID:4f2c1206-d14e-11f0-80ae-0a58a9feac02
DTSTAMP:20251204T201751Z
SUMMARY:7th & 8th Grade Boys Basketball Try Outs
URL;VALUE=URI:https://www.cuesd.com/schools/anderson-middle/calendar/881773
 3/7th-8th-grade-boys-basketball-try-outs
DTSTART:20251210T010000Z
DTEND:20251210T023000Z
END:VEVENT
END:VCALENDAR
