BEGIN:VCALENDAR
VERSION:2.0
PRODID:SchoolNow
CALSCALE:GREGORIAN
BEGIN:VEVENT
UID:41d6d028-d14e-11f0-bfd3-0a58a9feac02
DTSTAMP:20251204T201729Z
SUMMARY:6th Grade Boys Basketball Try Outs
URL;VALUE=URI:https://www.cuesd.com/schools/anderson-middle/calendar/881773
 2/6th-grade-boys-basketball-try-outs
DTSTART:20251209T233000Z
DTEND:20251210T010000Z
END:VEVENT
END:VCALENDAR
