BEGIN:VCALENDAR
VERSION:2.0
PRODID:SchoolNow
CALSCALE:GREGORIAN
BEGIN:VEVENT
UID:341738d8-d14e-11f0-8cc5-0afffe4b8a69
DTSTAMP:20251204T201706Z
SUMMARY:7th & 8th Grade Boys Basketball Try Outs
URL;VALUE=URI:https://www.cuesd.com/schools/anderson-middle/calendar/881773
 1/7th-8th-grade-boys-basketball-try-outs
DTSTART:20251209T010000Z
DTEND:20251209T023000Z
END:VEVENT
END:VCALENDAR
