BEGIN:VCALENDAR
VERSION:2.0
PRODID:SchoolNow
CALSCALE:GREGORIAN
BEGIN:VEVENT
UID:0ff459ea-d14e-11f0-9f1a-0a58a9feac02
DTSTAMP:20251204T201605Z
SUMMARY:6th Grade Boys Basketball Try Outs
URL;VALUE=URI:https://www.cuesd.com/schools/anderson-middle/calendar/881773
 0/6th-grade-boys-basketball-try-outs
DTSTART:20251208T233000Z
DTEND:20251209T010000Z
END:VEVENT
END:VCALENDAR
