BEGIN:VCALENDAR
VERSION:2.0
PRODID:SchoolNow
CALSCALE:GREGORIAN
BEGIN:VEVENT
UID:02001128-d142-11f0-92cc-0a58a9feac02
DTSTAMP:20251204T184948Z
SUMMARY:CRBR Presents Photos With Santa & Toy Drive
URL;VALUE=URI:https://www.cuesd.com/schools/anderson-middle/calendar/881772
 8/crbr-presents-photos-with-santa-toy-drive
DTSTART:20251206T010000Z
DTEND:20251206T030000Z
END:VEVENT
END:VCALENDAR
