BEGIN:VCALENDAR
VERSION:2.0
PRODID:SchoolNow
CALSCALE:GREGORIAN
BEGIN:VEVENT
UID:1522eab6-c718-11f0-a520-0affe72d166b
DTSTAMP:20251204T185247Z
SUMMARY:Holiday Concert
URL;VALUE=URI:https://www.cuesd.com/schools/anderson-middle/calendar/880766
 9/holiday-concert
DTSTART:20251211T020000Z
DTEND:20251211T040000Z
END:VEVENT
END:VCALENDAR
