BEGIN:VCALENDAR
VERSION:2.0
PRODID:SchoolNow
CALSCALE:GREGORIAN
BEGIN:VEVENT
UID:1f080b1e-c4bc-11f0-acaf-0e057718bc59
DTSTAMP:20251118T202110Z
SUMMARY:Christmas Family Game & Craft Night
URL;VALUE=URI:https://www.cuesd.com/schools/anderson-middle/calendar/880250
 7/christmas-family-game-craft-night
DTSTART:20251204T013000Z
DTEND:20251204T033000Z
END:VEVENT
END:VCALENDAR
