BEGIN:VCALENDAR
VERSION:2.0
PRODID:SchoolNow
CALSCALE:GREGORIAN
BEGIN:VEVENT
UID:eba8801e-c4bb-11f0-b4fe-028453255693
DTSTAMP:20251118T201944Z
SUMMARY:HOME - Girls Basketball Vs Pacheco
URL;VALUE=URI:https://www.cuesd.com/schools/anderson-middle/calendar/880250
 6/home-girls-basketball-vs-pacheco
DTSTART:20251203T000000Z
DTEND:20251203T030000Z
END:VEVENT
END:VCALENDAR
