BEGIN:VCALENDAR
VERSION:2.0
PRODID:SchoolNow
CALSCALE:GREGORIAN
BEGIN:VEVENT
UID:c3ed050e-c4bb-11f0-b089-0a58a9feac02
DTSTAMP:20251118T201837Z
SUMMARY:HOME Blue Out Event - Girls Basketball Vs. Vista
URL;VALUE=URI:https://www.cuesd.com/schools/anderson-middle/calendar/880250
 4/home-blue-out-event-girls-basketball-vs-vista
DTSTART:20251205T000000Z
DTEND:20251205T030000Z
END:VEVENT
END:VCALENDAR
