BEGIN:VCALENDAR
VERSION:2.0
PRODID:SchoolNow
CALSCALE:GREGORIAN
BEGIN:VEVENT
UID:00406ef6-b517-11f0-ac58-02a29c5198a3
DTSTAMP:20251029T223124Z
SUMMARY:AWAY - 6th-8th Girls Basketball Vs. Vista
URL;VALUE=URI:https://www.cuesd.com/schools/anderson-middle/calendar/876015
 5/away-6th-8th-girls-basketball-vs-vista
DTSTART:20251107T000000Z
DTEND:20251107T030000Z
END:VEVENT
END:VCALENDAR
