BEGIN:VCALENDAR
VERSION:2.0
PRODID:SchoolNow
CALSCALE:GREGORIAN
BEGIN:VEVENT
UID:e8f7dcc0-b516-11f0-98eb-0afffa06ec9d
DTSTAMP:20251029T223045Z
SUMMARY:AWAY - 6th-8th Girls Basketball Vs Happy Valley
URL;VALUE=URI:https://www.cuesd.com/schools/anderson-middle/calendar/876015
 4/away-6th-8th-girls-basketball-vs-happy-valley
DTSTART:20251105T000000Z
DTEND:20251105T030000Z
END:VEVENT
END:VCALENDAR
