BEGIN:VCALENDAR
VERSION:2.0
PRODID:SchoolNow
CALSCALE:GREGORIAN
BEGIN:VEVENT
UID:36923968-b516-11f0-85f4-0affd2424ac3
DTSTAMP:20251029T222545Z
SUMMARY:AWAY - 6TH - 8TH Girls Basketball Vs. Berrendos
URL;VALUE=URI:https://www.cuesd.com/schools/anderson-middle/calendar/876015
 3/away-6th-8th-girls-basketball-vs-berrendos
DTSTART:20251027T230000Z
DTEND:20251028T020000Z
END:VEVENT
END:VCALENDAR
