BEGIN:VCALENDAR
VERSION:2.0
PRODID:SchoolNow
CALSCALE:GREGORIAN
BEGIN:VEVENT
UID:160c66f0-b516-11f0-aaa6-0a58a9feac02
DTSTAMP:20251029T222451Z
SUMMARY:HOME - 6TH - 8TH Girls Basketball Vs. W. Cottonwood
URL;VALUE=URI:https://www.cuesd.com/schools/anderson-middle/calendar/876014
 9/home-6th-8th-girls-basketball-vs-w-cottonwood
DTSTART:20251029T230000Z
DTEND:20251030T020000Z
END:VEVENT
END:VCALENDAR
