BEGIN:VCALENDAR
VERSION:2.0
PRODID:SchoolNow
CALSCALE:GREGORIAN
BEGIN:VEVENT
UID:e3be52fe-a0b5-11f0-80e4-0a58a9feac02
DTSTAMP:20251004T000551Z
SUMMARY:Picture Day Make up
URL;VALUE=URI:https://www.cuesd.com/schools/anderson-middle/calendar/869245
 9/picture-day-make-up
DTSTART:20251017T160000Z
DTEND:20251017T190000Z
END:VEVENT
END:VCALENDAR
