BEGIN:VCALENDAR
VERSION:2.0
PRODID:SchoolNow
CALSCALE:GREGORIAN
BEGIN:VEVENT
UID:d1d8e95e-9517-11f0-b45a-0affe5fb5e8f
DTSTAMP:20250919T051638Z
SUMMARY:MAKE UP/HOME - Soccer vs Vista
URL;VALUE=URI:https://www.cuesd.com/schools/anderson-middle/calendar/864028
 8/make-up-home-soccer-vs-vista
DTSTART:20251002T230000Z
DTEND:20251003T010000Z
END:VEVENT
END:VCALENDAR
