BEGIN:VCALENDAR
VERSION:2.0
PRODID:SchoolNow
CALSCALE:GREGORIAN
BEGIN:VEVENT
UID:08afcd3c-87c4-11f0-9121-0affee066179
DTSTAMP:20250902T061407Z
SUMMARY:XC Meet @ Enterprise Park
URL;VALUE=URI:https://www.cuesd.com/schools/anderson-middle/calendar/856933
 2/xc-meet-enterprise-park
DTSTART:20251009T230000Z
DTEND:20251010T013000Z
END:VEVENT
END:VCALENDAR
