BEGIN:VCALENDAR
VERSION:2.0
PRODID:SchoolNow
CALSCALE:GREGORIAN
BEGIN:VEVENT
UID:f3dcedcc-87c3-11f0-993b-0e8b14fcf377
DTSTAMP:20250902T061332Z
SUMMARY:XC Meet @ Redding Sports Park
URL;VALUE=URI:https://www.cuesd.com/schools/anderson-middle/calendar/856933
 1/xc-meet-redding-sports-park
DTSTART:20251002T230000Z
DTEND:20251003T013000Z
END:VEVENT
END:VCALENDAR
