BEGIN:VCALENDAR
VERSION:2.0
PRODID:SchoolNow
CALSCALE:GREGORIAN
BEGIN:VEVENT
UID:e162b384-87c3-11f0-b9a3-0affee066179
DTSTAMP:20250902T061301Z
SUMMARY:Away - Volleyball/Soccer Vs Vista
URL;VALUE=URI:https://www.cuesd.com/schools/anderson-middle/calendar/856933
 0/away-volleyball-soccer-vs-vista
DTSTART:20251001T230000Z
DTEND:20251002T010000Z
END:VEVENT
END:VCALENDAR
