BEGIN:VCALENDAR
VERSION:2.0
PRODID:SchoolNow
CALSCALE:GREGORIAN
BEGIN:VEVENT
UID:ceeff946-87c3-11f0-869f-0e5d3462789d
DTSTAMP:20250902T061230Z
SUMMARY:Away - Volleyball/Soccer Vs Pacheco
URL;VALUE=URI:https://www.cuesd.com/schools/anderson-middle/calendar/856932
 9/away-volleyball-soccer-vs-pacheco
DTSTART:20250929T230000Z
DTEND:20250930T010000Z
END:VEVENT
END:VCALENDAR
