BEGIN:VCALENDAR
VERSION:2.0
PRODID:SchoolNow
CALSCALE:GREGORIAN
BEGIN:VEVENT
UID:ba824c84-87c3-11f0-bf2d-0a58a9feac02
DTSTAMP:20250902T061156Z
SUMMARY:XC Meet @ Anderson River Park
URL;VALUE=URI:https://www.cuesd.com/schools/anderson-middle/calendar/856932
 8/xc-meet-anderson-river-park
DTSTART:20250925T230000Z
DTEND:20250926T013000Z
END:VEVENT
END:VCALENDAR
