BEGIN:VCALENDAR
VERSION:2.0
PRODID:SchoolNow
CALSCALE:GREGORIAN
BEGIN:VEVENT
UID:9de0bcd2-87c3-11f0-b2ed-0affee066179
DTSTAMP:20250902T061108Z
SUMMARY:Home - Volleyball/Soccer Vs Shasta Lake
URL;VALUE=URI:https://www.cuesd.com/schools/anderson-middle/calendar/856932
 7/home-volleyball-soccer-vs-shasta-lake
DTSTART:20250924T230000Z
DTEND:20250925T010000Z
END:VEVENT
END:VCALENDAR
