BEGIN:VCALENDAR
VERSION:2.0
PRODID:SchoolNow
CALSCALE:GREGORIAN
BEGIN:VEVENT
UID:8cba662e-87c3-11f0-88ac-0a58a9feac02
DTSTAMP:20250902T061039Z
SUMMARY:Away - Volleyball/Soccer Vs Evergreen
URL;VALUE=URI:https://www.cuesd.com/schools/anderson-middle/calendar/856932
 6/away-volleyball-soccer-vs-evergreen
DTSTART:20250922T230000Z
DTEND:20250923T010000Z
END:VEVENT
END:VCALENDAR
