BEGIN:VCALENDAR
VERSION:2.0
PRODID:SchoolNow
CALSCALE:GREGORIAN
BEGIN:VEVENT
UID:760254be-87c3-11f0-a058-0eaa02947e27
DTSTAMP:20250902T061001Z
SUMMARY:XC Meet @ West Valley HS
URL;VALUE=URI:https://www.cuesd.com/schools/anderson-middle/calendar/856932
 4/xc-meet-west-valley-hs
DTSTART:20250918T230000Z
DTEND:20250919T013000Z
END:VEVENT
END:VCALENDAR
