BEGIN:VCALENDAR
VERSION:2.0
PRODID:SchoolNow
CALSCALE:GREGORIAN
BEGIN:VEVENT
UID:649bc0fc-87c3-11f0-a6ba-029f65b6582b
DTSTAMP:20250902T060932Z
SUMMARY:Home - Volleyball/Soccer Vs Pacheco
URL;VALUE=URI:https://www.cuesd.com/schools/anderson-middle/calendar/856932
 3/home-volleyball-soccer-vs-pacheco
DTSTART:20250917T230000Z
DTEND:20250918T010000Z
END:VEVENT
END:VCALENDAR
