BEGIN:VCALENDAR
VERSION:2.0
PRODID:SchoolNow
CALSCALE:GREGORIAN
BEGIN:VEVENT
UID:519d1082-87c3-11f0-af96-0e8b14fcf377
DTSTAMP:20250902T060900Z
SUMMARY:Away - Volleyball/Soccer Vs Shasta Lake
URL;VALUE=URI:https://www.cuesd.com/schools/anderson-middle/calendar/856932
 2/away-volleyball-soccer-vs-shasta-lake
DTSTART:20250915T230000Z
DTEND:20250916T010000Z
END:VEVENT
END:VCALENDAR
