BEGIN:VCALENDAR
VERSION:2.0
PRODID:SchoolNow
CALSCALE:GREGORIAN
BEGIN:VEVENT
UID:3301d45a-87c3-11f0-9db8-0e8b14fcf377
DTSTAMP:20250902T060809Z
SUMMARY:Picture Day
URL;VALUE=URI:https://www.cuesd.com/schools/anderson-middle/calendar/856932
 1/picture-day
DTSTART;VALUE=DATE:20250912
DTEND;VALUE=DATE:20250913
END:VEVENT
END:VCALENDAR
