BEGIN:VCALENDAR
VERSION:2.0
PRODID:SchoolNow
CALSCALE:GREGORIAN
BEGIN:VEVENT
UID:149c4482-87c3-11f0-97e8-0eaa02947e27
DTSTAMP:20250902T060718Z
SUMMARY:XC Meet @ Enterprise Park
URL;VALUE=URI:https://www.cuesd.com/schools/anderson-middle/calendar/856932
 0/xc-meet-enterprise-park
DTSTART:20250911T230000Z
DTEND:20250912T013000Z
END:VEVENT
END:VCALENDAR
