BEGIN:VCALENDAR
VERSION:2.0
PRODID:SchoolNow
CALSCALE:GREGORIAN
BEGIN:VEVENT
UID:f187159e-87c2-11f0-9528-0a58a9feac02
DTSTAMP:20250902T060619Z
SUMMARY:Home - Volleyball/Soccer Vs Vista
URL;VALUE=URI:https://www.cuesd.com/schools/anderson-middle/calendar/856931
 9/home-volleyball-soccer-vs-vista
DTSTART:20250910T230000Z
DTEND:20250911T010000Z
END:VEVENT
END:VCALENDAR
