BEGIN:VCALENDAR
VERSION:2.0
PRODID:SchoolNow
CALSCALE:GREGORIAN
BEGIN:VEVENT
UID:d83c3ca4-87c2-11f0-8ffc-029f65b6582b
DTSTAMP:20250902T060536Z
SUMMARY:Home - Volleyball/Soccer Vs Happy Valley
URL;VALUE=URI:https://www.cuesd.com/schools/anderson-middle/calendar/856931
 8/home-volleyball-soccer-vs-happy-valley
DTSTART:20250908T230000Z
DTEND:20250909T010000Z
END:VEVENT
END:VCALENDAR
