BEGIN:VCALENDAR
VERSION:2.0
PRODID:SchoolNow
CALSCALE:GREGORIAN
BEGIN:VEVENT
UID:ba89d6d0-87c2-11f0-ab9f-0a58a9feac02
DTSTAMP:20250902T060447Z
SUMMARY:Away - Soccer Vs West Cottonwood
URL;VALUE=URI:https://www.cuesd.com/schools/anderson-middle/calendar/856931
 7/away-soccer-vs-west-cottonwood
DTSTART:20250904T230000Z
DTEND:20250905T010000Z
END:VEVENT
END:VCALENDAR
