BEGIN:VCALENDAR
VERSION:2.0
PRODID:SchoolNow
CALSCALE:GREGORIAN
BEGIN:VEVENT
UID:a7a4f4a0-87c2-11f0-9c1a-029f65b6582b
DTSTAMP:20250902T060415Z
SUMMARY:Home - Volleyball Vs West Cottonwood
URL;VALUE=URI:https://www.cuesd.com/schools/anderson-middle/calendar/856931
 6/home-volleyball-vs-west-cottonwood
DTSTART:20250904T230000Z
DTEND:20250905T010000Z
END:VEVENT
END:VCALENDAR
