BEGIN:VCALENDAR
VERSION:2.0
PRODID:SchoolNow
CALSCALE:GREGORIAN
BEGIN:VEVENT
UID:854df172-87c2-11f0-ab33-0affe6199e73
DTSTAMP:20250902T060317Z
SUMMARY:Home - Volleyball/Soccer Vs Berrendos
URL;VALUE=URI:https://www.cuesd.com/schools/anderson-middle/calendar/856931
 5/home-volleyball-soccer-vs-berrendos
DTSTART:20250903T230000Z
DTEND:20250904T010000Z
END:VEVENT
END:VCALENDAR
