BEGIN:VCALENDAR
VERSION:2.0
PRODID:SchoolNow
CALSCALE:GREGORIAN
BEGIN:VEVENT
UID:4a7d15e8-7712-11f0-aace-0affd7b7bcdb
DTSTAMP:20250812T002129Z
SUMMARY:Labor Day - No School
URL;VALUE=URI:https://www.cuesd.com/schools/anderson-middle/calendar/849253
 5/labor-day-no-school
DTSTART;VALUE=DATE:20250901
DTEND;VALUE=DATE:20250902
END:VEVENT
END:VCALENDAR
