BEGIN:VCALENDAR
VERSION:2.0
PRODID:SchoolNow
CALSCALE:GREGORIAN
BEGIN:VEVENT
UID:2c687246-7712-11f0-9c0b-0a58a9feac02
DTSTAMP:20250812T002038Z
SUMMARY:Back to School
URL;VALUE=URI:https://www.cuesd.com/schools/anderson-middle/calendar/849253
 4/back-to-school
DTSTART:20250829T010000Z
DTEND:20250829T023000Z
END:VEVENT
END:VCALENDAR
