BEGIN:VCALENDAR
VERSION:2.0
PRODID:SchoolNow
CALSCALE:GREGORIAN
BEGIN:VEVENT
UID:d586ab46-7711-11f0-81f5-0afff137d3ad
DTSTAMP:20250812T001812Z
SUMMARY:First Day of School - Minimum Day Release @ 2:07
URL;VALUE=URI:https://www.cuesd.com/schools/anderson-middle/calendar/849253
 3/first-day-of-school-minimum-day-release-2-07
DTSTART:20250813T155000Z
DTEND:20250813T210700Z
END:VEVENT
END:VCALENDAR
