BEGIN:VCALENDAR
VERSION:2.0
PRODID:SchoolNow
CALSCALE:GREGORIAN
BEGIN:VEVENT
UID:8537aa58-2484-11f0-bece-0a58a9feac02
DTSTAMP:20250428T230003Z
SUMMARY:8th Grade Promotion Ceremony
URL;VALUE=URI:https://www.cuesd.com/schools/anderson-middle/calendar/802846
 3/8th-grade-promotion-ceremony
DTSTART:20250605T010000Z
DTEND:20250605T030000Z
END:VEVENT
END:VCALENDAR
