BEGIN:VCALENDAR
VERSION:2.0
PRODID:SchoolNow
CALSCALE:GREGORIAN
BEGIN:VEVENT
UID:21c3f6de-2484-11f0-9073-0a58a9feac02
DTSTAMP:20250428T225716Z
SUMMARY:AMS Spring Concert
URL;VALUE=URI:https://www.cuesd.com/schools/anderson-middle/calendar/802846
 2/ams-spring-concert
DTSTART:20250501T010000Z
DTEND:20250501T030000Z
END:VEVENT
END:VCALENDAR
