BEGIN:VCALENDAR
VERSION:2.0
PRODID:SchoolNow
CALSCALE:GREGORIAN
BEGIN:VEVENT
UID:2a510404-0661-11f0-a082-0affd589688f
DTSTAMP:20250321T143124Z
SUMMARY:Spring Picture Day
URL;VALUE=URI:https://www.cuesd.com/schools/anderson-middle/calendar/773976
 4/spring-picture-day
DTSTART:20250328T150000Z
DTEND:20250328T220000Z
END:VEVENT
END:VCALENDAR
