BEGIN:VCALENDAR
VERSION:2.0
PRODID:SchoolNow
CALSCALE:GREGORIAN
BEGIN:VEVENT
UID:0d84a394-0661-11f0-83b4-029309564303
DTSTAMP:20250321T143035Z
SUMMARY:8th Grade Graduation Pictures
URL;VALUE=URI:https://www.cuesd.com/schools/anderson-middle/calendar/773976
 3/8th-grade-graduation-pictures
DTSTART:20250328T150000Z
DTEND:20250328T220000Z
END:VEVENT
END:VCALENDAR
