BEGIN:VCALENDAR
VERSION:2.0
PRODID:SchoolNow
CALSCALE:GREGORIAN
BEGIN:VEVENT
UID:b6bf547a-ef02-11ef-a77f-0a58a9feac02
DTSTAMP:20250219T204720Z
SUMMARY:Last Day of School - Minimum Day Release @ 2:07
URL;VALUE=URI:https://www.cuesd.com/schools/anderson-middle/calendar/750180
 1/last-day-of-school-minimum-day-release-2-07
DTSTART;VALUE=DATE:20250605
DTEND;VALUE=DATE:20250606
END:VEVENT
END:VCALENDAR
