BEGIN:VCALENDAR
VERSION:2.0
PRODID:SchoolNow
CALSCALE:GREGORIAN
BEGIN:VEVENT
UID:97b0429c-ef02-11ef-a3c0-0e46a8e27ea1
DTSTAMP:20250219T204628Z
SUMMARY:Memorial Day - No School
URL;VALUE=URI:https://www.cuesd.com/schools/anderson-middle/calendar/750180
 0/memorial-day-no-school
DTSTART;VALUE=DATE:20250526
DTEND;VALUE=DATE:20250527
END:VEVENT
END:VCALENDAR
