BEGIN:VCALENDAR
VERSION:2.0
PRODID:SchoolNow
CALSCALE:GREGORIAN
BEGIN:VEVENT
UID:67489f96-ef02-11ef-9fa3-0267c79b301d
DTSTAMP:20250219T204507Z
SUMMARY:Spring Break - No School
URL;VALUE=URI:https://www.cuesd.com/schools/anderson-middle/calendar/750171
 7/spring-break-no-school
DTSTART;VALUE=DATE:20250414
DTEND;VALUE=DATE:20250422
END:VEVENT
END:VCALENDAR
